BEGIN:VCALENDAR
VERSION:2.0
PRODID:SchoolNow
CALSCALE:GREGORIAN
BEGIN:VEVENT
UID:8e579e12-1d4f-11f1-97d2-0a58a9feac02
DTSTAMP:20260419T142606Z
SUMMARY:Boys @ Deerfield 3:45/5:00
LOCATION:Deerfield Community School\, 66 North Road\, Deerfield\, NH 03037\
 , USA
URL;VALUE=URI:https://www.nottingham.k12.nh.us/student-activities/calendar/
 8909539/boys-deerfield-3-45-5-00
DTSTART:20260113T204500Z
DTEND:20260113T230000Z
END:VEVENT
END:VCALENDAR
