BEGIN:VCALENDAR
VERSION:2.0
PRODID:SchoolNow
CALSCALE:GREGORIAN
BEGIN:VEVENT
UID:8e579d22-1d4f-11f1-8b5a-0a58a9feac02
DTSTAMP:20260419T142606Z
SUMMARY:Baseball Tryouts - 1st session
URL;VALUE=URI:https://www.nottingham.k12.nh.us/student-activities/calendar/
 8909538/baseball-tryouts-1st-session
DTSTART:20260316T200000Z
DTEND:20260316T213000Z
END:VEVENT
END:VCALENDAR
