BEGIN:VCALENDAR
VERSION:2.0
PRODID:SchoolNow
CALSCALE:GREGORIAN
BEGIN:VEVENT
UID:8e579c28-1d4f-11f1-8ebf-0a58a9feac02
DTSTAMP:20260419T142606Z
SUMMARY:Girls Varsity Scrimmage vs. Raymond 11am
URL;VALUE=URI:https://www.nottingham.k12.nh.us/student-activities/calendar/
 8909537/girls-varsity-scrimmage-vs-raymond-11am
DTSTART:20260102T160000Z
DTEND:20260102T170000Z
END:VEVENT
END:VCALENDAR
