BEGIN:VCALENDAR
VERSION:2.0
PRODID:SchoolNow
CALSCALE:GREGORIAN
BEGIN:VEVENT
UID:8e579b38-1d4f-11f1-857b-0a58a9feac02
DTSTAMP:20260419T203107Z
SUMMARY:Boys Open Gym
URL;VALUE=URI:https://www.nottingham.k12.nh.us/student-activities/calendar/
 8909536/boys-open-gym
DTSTART:20251230T200000Z
DTEND:20251230T220000Z
END:VEVENT
END:VCALENDAR
