BEGIN:VCALENDAR
VERSION:2.0
PRODID:SchoolNow
CALSCALE:GREGORIAN
BEGIN:VEVENT
UID:8e579962-1d4f-11f1-9738-0a58a9feac02
DTSTAMP:20260419T142606Z
SUMMARY:GAMES - BB/SB (home) vs. Epsom
URL;VALUE=URI:https://www.nottingham.k12.nh.us/student-activities/calendar/
 8909534/games-bb-sb-home-vs-epsom
DTSTART:20260409T194500Z
DTEND:20260409T214500Z
END:VEVENT
END:VCALENDAR
