BEGIN:VCALENDAR
VERSION:2.0
PRODID:SchoolNow
CALSCALE:GREGORIAN
BEGIN:VEVENT
UID:8e579868-1d4f-11f1-9c4c-0a58a9feac02
DTSTAMP:20260419T142606Z
SUMMARY:Boys Open Gym
URL;VALUE=URI:https://www.nottingham.k12.nh.us/student-activities/calendar/
 8909533/boys-open-gym
DTSTART:20260102T200000Z
DTEND:20260102T220000Z
END:VEVENT
END:VCALENDAR
