BEGIN:VCALENDAR
VERSION:2.0
PRODID:SchoolNow
CALSCALE:GREGORIAN
BEGIN:VEVENT
UID:8e579746-1d4f-11f1-a051-0a58a9feac02
DTSTAMP:20260419T142606Z
SUMMARY:Girls Varsity Practice
URL;VALUE=URI:https://www.nottingham.k12.nh.us/student-activities/calendar/
 8909532/girls-varsity-practice
DTSTART:20260211T193000Z
DTEND:20260211T210000Z
END:VEVENT
END:VCALENDAR
