BEGIN:VCALENDAR
VERSION:2.0
PRODID:SchoolNow
CALSCALE:GREGORIAN
BEGIN:VEVENT
UID:8e57961a-1d4f-11f1-8767-0a58a9feac02
DTSTAMP:20260419T142606Z
SUMMARY:Baseball Tryouts - 2nd Session
URL;VALUE=URI:https://www.nottingham.k12.nh.us/student-activities/calendar/
 8909531/baseball-tryouts-2nd-session
DTSTART:20260317T200000Z
DTEND:20260317T213000Z
END:VEVENT
END:VCALENDAR
