BEGIN:VCALENDAR
VERSION:2.0
PRODID:SchoolNow
CALSCALE:GREGORIAN
BEGIN:VEVENT
UID:8e57946c-1d4f-11f1-8982-0a58a9feac02
DTSTAMP:20260419T142606Z
SUMMARY:Boys (home) vs. Strafford
LOCATION:Nottingham Elementary School\, 245 Stage Rd\, Nottingham\, NH 0329
 0\, USA
URL;VALUE=URI:https://www.nottingham.k12.nh.us/student-activities/calendar/
 8909530/boys-home-vs-strafford
DTSTART:20260122T210000Z
DTEND:20260122T231500Z
END:VEVENT
END:VCALENDAR
