BEGIN:VCALENDAR
VERSION:2.0
PRODID:SchoolNow
CALSCALE:GREGORIAN
BEGIN:VEVENT
UID:8e57759a-1d4f-11f1-a9cd-0a58a9feac02
DTSTAMP:20260419T142606Z
SUMMARY:JV Teams OFF
URL;VALUE=URI:https://www.nottingham.k12.nh.us/student-activities/calendar/
 8909529/jv-teams-off
DTSTART;VALUE=DATE:20260115
DTEND;VALUE=DATE:20260116
END:VEVENT
END:VCALENDAR
