BEGIN:VCALENDAR
VERSION:2.0
PRODID:SchoolNow
CALSCALE:GREGORIAN
BEGIN:VEVENT
UID:ec32402e-c678-11f0-be4e-0a58a9feac02
DTSTAMP:20260419T203107Z
SUMMARY:Girls JV Practice
URL;VALUE=URI:https://www.nottingham.k12.nh.us/student-activities/calendar/
 8806808/girls-jv-practice
DTSTART:20251222T193000Z
DTEND:20251222T210000Z
END:VEVENT
END:VCALENDAR
