BEGIN:VCALENDAR
VERSION:2.0
PRODID:SchoolNow
CALSCALE:GREGORIAN
BEGIN:VEVENT
UID:ec1e1ffe-c678-11f0-8730-0a58a9feac02
DTSTAMP:20260419T142606Z
SUMMARY:Girls Varsity Practice (Possible)
URL;VALUE=URI:https://www.nottingham.k12.nh.us/student-activities/calendar/
 8806798/girls-varsity-practice-possible
DTSTART:20260119T210000Z
DTEND:20260119T221500Z
END:VEVENT
END:VCALENDAR
