BEGIN:VCALENDAR
VERSION:2.0
PRODID:SchoolNow
CALSCALE:GREGORIAN
BEGIN:VEVENT
UID:ec1e1f18-c678-11f0-bc0a-0a58a9feac02
DTSTAMP:20260419T142606Z
SUMMARY:Girls Varsity Practice
URL;VALUE=URI:https://www.nottingham.k12.nh.us/student-activities/calendar/
 8806797/girls-varsity-practice
DTSTART:20260114T210000Z
DTEND:20260114T221500Z
END:VEVENT
END:VCALENDAR
