BEGIN:VCALENDAR
VERSION:2.0
PRODID:SchoolNow
CALSCALE:GREGORIAN
BEGIN:VEVENT
UID:ec1e1216-c678-11f0-aa4d-0a58a9feac02
DTSTAMP:20260419T142606Z
SUMMARY:Boys Varsity Practice (possible)
URL;VALUE=URI:https://www.nottingham.k12.nh.us/student-activities/calendar/
 8806785/boys-varsity-practice-possible
DTSTART:20260119T221500Z
DTEND:20260119T233000Z
END:VEVENT
END:VCALENDAR
