BEGIN:VCALENDAR
VERSION:2.0
PRODID:SchoolNow
CALSCALE:GREGORIAN
BEGIN:VEVENT
UID:ec1e1036-c678-11f0-a502-0a58a9feac02
DTSTAMP:20260419T142606Z
SUMMARY:Boys Varsity Practice
URL;VALUE=URI:https://www.nottingham.k12.nh.us/student-activities/calendar/
 8806783/boys-varsity-practice
DTSTART:20260112T221500Z
DTEND:20260112T233000Z
END:VEVENT
END:VCALENDAR
