BEGIN:VCALENDAR
VERSION:2.0
PRODID:SchoolNow
CALSCALE:GREGORIAN
BEGIN:VEVENT
UID:ec1e0e4c-c678-11f0-a220-0a58a9feac02
DTSTAMP:20260419T142606Z
SUMMARY:Boys Varsity Practice
URL;VALUE=URI:https://www.nottingham.k12.nh.us/student-activities/calendar/
 8806781/boys-varsity-practice
DTSTART:20260105T221500Z
DTEND:20260105T233000Z
END:VEVENT
END:VCALENDAR
