BEGIN:VCALENDAR
VERSION:2.0
PRODID:SchoolNow
CALSCALE:GREGORIAN
BEGIN:VEVENT
UID:ec1e0d52-c678-11f0-b6db-0a58a9feac02
DTSTAMP:20260419T203107Z
SUMMARY:Boys Varsity Practice
URL;VALUE=URI:https://www.nottingham.k12.nh.us/student-activities/calendar/
 8806780/boys-varsity-practice
DTSTART:20251222T221500Z
DTEND:20251222T233000Z
END:VEVENT
END:VCALENDAR
