BEGIN:VCALENDAR
VERSION:2.0
PRODID:SchoolNow
CALSCALE:GREGORIAN
BEGIN:VEVENT
UID:ebd1ee54-c678-11f0-9bc1-0a58a9feac02
DTSTAMP:20260419T142606Z
SUMMARY:Boys JV Practice
URL;VALUE=URI:https://www.nottingham.k12.nh.us/student-activities/calendar/
 8806771/boys-jv-practice
DTSTART:20260107T193000Z
DTEND:20260107T210000Z
END:VEVENT
END:VCALENDAR
