BEGIN:VCALENDAR
VERSION:2.0
PRODID:SchoolNow
CALSCALE:GREGORIAN
BEGIN:VEVENT
UID:ebd1e558-c678-11f0-bb5c-0a58a9feac02
DTSTAMP:20260419T203107Z
SUMMARY:Varsity Home Scrimmage VS. Nute Middle
LOCATION:Nottingham Elementary School\, 245 Stage Rd\, Nottingham\, NH 0329
 0\, USA
URL;VALUE=URI:https://www.nottingham.k12.nh.us/student-activities/calendar/
 8806764/varsity-home-scrimmage-vs-nute-middle
DTSTART:20251219T210000Z
DTEND:20251219T233000Z
END:VEVENT
END:VCALENDAR
