BEGIN:VCALENDAR
VERSION:2.0
PRODID:SchoolNow
CALSCALE:GREGORIAN
BEGIN:VEVENT
UID:db2b58de-b425-11f0-ac89-0efe64d2934f
DTSTAMP:20260419T142606Z
SUMMARY:JV (home) vs. Rochester - Scrimmage (B/G)
LOCATION:Nottingham Elementary School\, 245 Stage Rd\, Nottingham\, NH 0329
 0\, USA
URL;VALUE=URI:https://www.nottingham.k12.nh.us/student-activities/calendar/
 8757740/jv-home-vs-rochester-scrimmage-b-g
DTSTART:20260129T203000Z
DTEND:20260129T230000Z
END:VEVENT
END:VCALENDAR
