BEGIN:VCALENDAR
VERSION:2.0
PRODID:SchoolNow
CALSCALE:GREGORIAN
BEGIN:VEVENT
UID:db2b5582-b425-11f0-a403-0efe64d2934f
DTSTAMP:20260419T142606Z
SUMMARY:JV Hoops Scrimmage @ Rochester
LOCATION:Rochester Middle School\, 47 Brock St\, Rochester\, NH 03867\, USA
URL;VALUE=URI:https://www.nottingham.k12.nh.us/student-activities/calendar/
 8757739/jv-hoops-scrimmage-rochester
DTSTART:20260106T203000Z
DTEND:20260106T230000Z
END:VEVENT
END:VCALENDAR
