BEGIN:VCALENDAR
VERSION:2.0
PRODID:SchoolNow
CALSCALE:GREGORIAN
BEGIN:VEVENT
UID:90de6764-4e3e-11f0-91ae-0a58a9feac02
DTSTAMP:20250621T012507Z
SUMMARY:School Board Meeting
LOCATION:Nottingham School
URL;VALUE=URI:https://www.nottingham.k12.nh.us/school-board/calendar/833439
 4/school-board-meeting
DTSTART:20270203T233000Z
DTEND:20270204T023000Z
END:VEVENT
END:VCALENDAR
