BEGIN:VCALENDAR
VERSION:2.0
PRODID:SchoolNow
CALSCALE:GREGORIAN
BEGIN:VEVENT
UID:90de616a-4e3e-11f0-b1ec-0a58a9feac02
DTSTAMP:20250621T012507Z
SUMMARY:Technology Committee Meeting 2nd Wednesday
URL;VALUE=URI:https://www.nottingham.k12.nh.us/school-board/calendar/833438
 9/technology-committee-meeting-2nd-wednesday
DTSTART:20270210T123000Z
DTEND:20270210T130000Z
END:VEVENT
END:VCALENDAR
