BEGIN:VCALENDAR
VERSION:2.0
PRODID:SchoolNow
CALSCALE:GREGORIAN
BEGIN:VEVENT
UID:847f977c-51af-11ef-be41-02e3bdafd4ed
DTSTAMP:20250621T012507Z
SUMMARY:School Board Meeting
LOCATION:Nottingham School
URL;VALUE=URI:https://www.nottingham.k12.nh.us/school-board/calendar/634936
 1/school-board-meeting
DTSTART:20250402T223000Z
DTEND:20250403T013000Z
END:VEVENT
END:VCALENDAR
