BEGIN:VCALENDAR
VERSION:2.0
PRODID:SchoolNow
CALSCALE:GREGORIAN
BEGIN:VEVENT
UID:847f887c-51af-11ef-b2ba-02e3bdafd4ed
DTSTAMP:20250621T012507Z
SUMMARY:School Board Meeting
LOCATION:Nottingham School
URL;VALUE=URI:https://www.nottingham.k12.nh.us/school-board/calendar/634936
 0/school-board-meeting
DTSTART:20250305T233000Z
DTEND:20250306T023000Z
END:VEVENT
END:VCALENDAR
