BEGIN:VCALENDAR
VERSION:2.0
PRODID:SchoolNow
CALSCALE:GREGORIAN
BEGIN:VEVENT
UID:7f02bbf4-22f1-11ef-8e06-0a58a9feac02
DTSTAMP:20250621T012507Z
SUMMARY:Technology Committee Meeting 2nd Wednesday
URL;VALUE=URI:https://www.nottingham.k12.nh.us/school-board/calendar/607857
 7/technology-committee-meeting-2nd-wednesday
DTSTART:20250813T113000Z
DTEND:20250813T120000Z
END:VEVENT
END:VCALENDAR
