BEGIN:VCALENDAR
VERSION:2.0
PRODID:SchoolNow
CALSCALE:GREGORIAN
BEGIN:VEVENT
UID:f2a1c6e2-aff4-11ee-abb0-0a58a9feac02
DTSTAMP:20250621T012507Z
SUMMARY:School Board Meeting
LOCATION:NS
URL;VALUE=URI:https://www.nottingham.k12.nh.us/school-board/calendar/513571
 7/school-board-meeting
DTSTART:20250820T223000Z
DTEND:20250821T013000Z
END:VEVENT
END:VCALENDAR
