BEGIN:VCALENDAR
VERSION:2.0
PRODID:SchoolNow
CALSCALE:GREGORIAN
BEGIN:VEVENT
UID:6c3deb9e-888f-11ee-b8bf-0a58a9feac02
DTSTAMP:20250621T012507Z
SUMMARY:School Board Meeting
LOCATION:NS
URL;VALUE=URI:https://www.nottingham.k12.nh.us/school-board/calendar/496196
 4/school-board-meeting
DTSTART:20250723T223000Z
DTEND:20250724T013000Z
END:VEVENT
END:VCALENDAR
