BEGIN:VCALENDAR
VERSION:2.0
PRODID:SchoolNow
CALSCALE:GREGORIAN
BEGIN:VEVENT
UID:f2c9ddde-4704-11ee-a172-0a400026ea83
DTSTAMP:20250621T012507Z
SUMMARY:School Board Meeting
LOCATION:NS
URL;VALUE=URI:https://www.nottingham.k12.nh.us/school-board/calendar/465253
 2/school-board-meeting
DTSTART:20250416T223000Z
DTEND:20250417T013000Z
END:VEVENT
END:VCALENDAR
