BEGIN:VCALENDAR
VERSION:2.0
PRODID:SchoolNow
CALSCALE:GREGORIAN
BEGIN:VEVENT
UID:20980b56-2aa8-11ee-9686-0a58a9feac02
DTSTAMP:20250621T012507Z
SUMMARY:School Board Meeting
LOCATION:NS
URL;VALUE=URI:https://www.nottingham.k12.nh.us/school-board/calendar/451962
 2/school-board-meeting
DTSTART:20250319T223000Z
DTEND:20250320T013000Z
END:VEVENT
END:VCALENDAR
