BEGIN:VCALENDAR
VERSION:2.0
PRODID:SchoolNow
CALSCALE:GREGORIAN
BEGIN:VEVENT
UID:ed7e5adc-3d86-11f1-b781-0a58a9feac02
DTSTAMP:20260424T083014Z
SUMMARY:Yearbook Committee
URL;VALUE=URI:https://www.nottingham.k12.nh.us/calendar/9009097/yearbook-co
 mmittee
DTSTART:20260424T183000Z
DTEND:20260424T194500Z
END:VEVENT
END:VCALENDAR
