BEGIN:VCALENDAR
VERSION:2.0
PRODID:SchoolNow
CALSCALE:GREGORIAN
BEGIN:VEVENT
UID:ea79eb36-2a34-11f1-bfd8-0e1c54380eb5
DTSTAMP:20260423T141515Z
SUMMARY:SHARP Cancelled
URL;VALUE=URI:https://www.nottingham.k12.nh.us/calendar/8951610/sharp-cance
 lled
DTSTART:20260423T183000Z
DTEND:20260423T194500Z
END:VEVENT
END:VCALENDAR
