BEGIN:VCALENDAR
VERSION:2.0
PRODID:SchoolNow
CALSCALE:GREGORIAN
BEGIN:VEVENT
UID:ea13d896-2a34-11f1-a9c9-0e1c54380eb5
DTSTAMP:20260424T083014Z
SUMMARY:Girls on the Run
URL;VALUE=URI:https://www.nottingham.k12.nh.us/calendar/8951576/girls-on-th
 e-run
DTSTART:20260424T183000Z
DTEND:20260424T200000Z
END:VEVENT
END:VCALENDAR
