BEGIN:VCALENDAR
VERSION:2.0
PRODID:SchoolNow
CALSCALE:GREGORIAN
BEGIN:VEVENT
UID:ea13d7ba-2a34-11f1-955c-0e1c54380eb5
DTSTAMP:20260422T135513Z
SUMMARY:Girls on the Run
URL;VALUE=URI:https://www.nottingham.k12.nh.us/calendar/8951575/girls-on-th
 e-run
DTSTART:20260422T183000Z
DTEND:20260422T200000Z
END:VEVENT
END:VCALENDAR
