BEGIN:VCALENDAR
VERSION:2.0
PRODID:SchoolNow
CALSCALE:GREGORIAN
BEGIN:VEVENT
UID:ea13aaec-2a34-11f1-8caf-0e1c54380eb5
DTSTAMP:20260424T083013Z
SUMMARY:Northern Strikers (Knights Field)
URL;VALUE=URI:https://www.nottingham.k12.nh.us/calendar/8951525/northern-st
 rikers-knights-field
DTSTART:20260418T120000Z
DTEND:20260418T210000Z
END:VEVENT
END:VCALENDAR
