BEGIN:VCALENDAR
VERSION:2.0
PRODID:SchoolNow
CALSCALE:GREGORIAN
BEGIN:VEVENT
UID:ea13a45c-2a34-11f1-9ab9-0e1c54380eb5
DTSTAMP:20260423T141514Z
SUMMARY:Poster Club with Mrs. Robie
URL;VALUE=URI:https://www.nottingham.k12.nh.us/calendar/8951518/poster-club
 -with-mrs-robie
DTSTART:20260423T183000Z
DTEND:20260423T193000Z
END:VEVENT
END:VCALENDAR
