BEGIN:VCALENDAR
VERSION:2.0
PRODID:SchoolNow
CALSCALE:GREGORIAN
BEGIN:VEVENT
UID:e9a78312-2a34-11f1-96c2-0e1c54380eb5
DTSTAMP:20260423T141515Z
SUMMARY:Math Group with Mrs. Levitow(Art room)
URL;VALUE=URI:https://www.nottingham.k12.nh.us/calendar/8951446/math-group-
 with-mrs-levitow-art-room
DTSTART:20260423T183000Z
DTEND:20260423T193000Z
END:VEVENT
END:VCALENDAR
