BEGIN:VCALENDAR
VERSION:2.0
PRODID:SchoolNow
CALSCALE:GREGORIAN
BEGIN:VEVENT
UID:e8e8c12a-2a34-11f1-9aba-0e1c54380eb5
DTSTAMP:20260420T131514Z
SUMMARY:SHARP
URL;VALUE=URI:https://www.nottingham.k12.nh.us/calendar/8951292/sharp
DTSTART:20260420T183000Z
DTEND:20260420T194500Z
END:VEVENT
END:VCALENDAR
