BEGIN:VCALENDAR
VERSION:2.0
PRODID:SchoolNow
CALSCALE:GREGORIAN
BEGIN:VEVENT
UID:e8e8ad16-2a34-11f1-8e1f-0e1c54380eb5
DTSTAMP:20260421T073013Z
SUMMARY:SLC Meeting
URL;VALUE=URI:https://www.nottingham.k12.nh.us/calendar/8951269/slc-meeting
DTSTART:20260422T183000Z
DTEND:20260422T191500Z
END:VEVENT
END:VCALENDAR
