BEGIN:VCALENDAR
VERSION:2.0
PRODID:SchoolNow
CALSCALE:GREGORIAN
BEGIN:VEVENT
UID:e8e89bfa-2a34-11f1-b8d8-0e1c54380eb5
DTSTAMP:20260421T073014Z
SUMMARY:Beginning Band Rehearsal(Group 1)
URL;VALUE=URI:https://www.nottingham.k12.nh.us/calendar/8951252/beginning-b
 and-rehearsal-group-1
DTSTART:20260422T111500Z
DTEND:20260422T120000Z
END:VEVENT
END:VCALENDAR
