BEGIN:VCALENDAR
VERSION:2.0
PRODID:SchoolNow
CALSCALE:GREGORIAN
BEGIN:VEVENT
UID:e8e87b34-2a34-11f1-9a5c-0e1c54380eb5
DTSTAMP:20260424T083013Z
SUMMARY:Men's Pickup Basketball
URL;VALUE=URI:https://www.nottingham.k12.nh.us/calendar/8951224/mens-pickup
 -basketball
DTSTART:20260424T233000Z
DTEND:20260425T020000Z
END:VEVENT
END:VCALENDAR
