BEGIN:VCALENDAR
VERSION:2.0
PRODID:SchoolNow
CALSCALE:GREGORIAN
BEGIN:VEVENT
UID:e8844fe2-2a34-11f1-87f7-0e1c54380eb5
DTSTAMP:20260420T010550Z
SUMMARY:Advancement Band Rehearsal(Group 1)
URL;VALUE=URI:https://www.nottingham.k12.nh.us/calendar/8951197/advancement
 -band-rehearsal-group-1
DTSTART:20260420T184500Z
DTEND:20260420T193000Z
END:VEVENT
END:VCALENDAR
