BEGIN:VCALENDAR
VERSION:2.0
PRODID:SchoolNow
CALSCALE:GREGORIAN
BEGIN:VEVENT
UID:e884355c-2a34-11f1-9664-0e1c54380eb5
DTSTAMP:20260422T135512Z
SUMMARY:Beginning Band(Group 2)
URL;VALUE=URI:https://www.nottingham.k12.nh.us/calendar/8951169/beginning-b
 and-group-2
DTSTART:20260422T184500Z
DTEND:20260422T193000Z
END:VEVENT
END:VCALENDAR
