BEGIN:VCALENDAR
VERSION:2.0
PRODID:SchoolNow
CALSCALE:GREGORIAN
BEGIN:VEVENT
UID:e8841d24-2a34-11f1-a55c-0e1c54380eb5
DTSTAMP:20260420T131514Z
SUMMARY:Advanced Band(Group 2)
URL;VALUE=URI:https://www.nottingham.k12.nh.us/calendar/8951141/advanced-ba
 nd-group-2
DTSTART:20260421T111500Z
DTEND:20260421T120000Z
END:VEVENT
END:VCALENDAR
