BEGIN:VCALENDAR
VERSION:2.0
PRODID:SchoolNow
CALSCALE:GREGORIAN
BEGIN:VEVENT
UID:e8134266-2a34-11f1-bf86-0e1c54380eb5
DTSTAMP:20260420T071012Z
SUMMARY:Men's Pickup Basketball: Nottingham Rec.
LOCATION:Gym
URL;VALUE=URI:https://www.nottingham.k12.nh.us/calendar/8951013/mens-pickup
 -basketball-nottingham-rec
DTSTART:20260419T113000Z
DTEND:20260419T140000Z
END:VEVENT
END:VCALENDAR
