BEGIN:VCALENDAR
VERSION:2.0
PRODID:SchoolNow
CALSCALE:GREGORIAN
BEGIN:VEVENT
UID:e79face8-2a34-11f1-8d56-0e1c54380eb5
DTSTAMP:20260424T083012Z
SUMMARY:KNIGHTS Assembly
URL;VALUE=URI:https://www.nottingham.k12.nh.us/calendar/8950913/knights-ass
 embly
DTSTART:20260424T173000Z
DTEND:20260424T183000Z
END:VEVENT
END:VCALENDAR
