BEGIN:VCALENDAR
VERSION:2.0
PRODID:SchoolNow
CALSCALE:GREGORIAN
BEGIN:VEVENT
UID:e735d4b2-2a34-11f1-bfe7-0e1c54380eb5
DTSTAMP:20260422T075012Z
SUMMARY:Math Club with Mrs. Warnick
URL;VALUE=URI:https://www.nottingham.k12.nh.us/calendar/8950830/math-club-w
 ith-mrs-warnick
DTSTART:20260420T183000Z
DTEND:20260420T193000Z
END:VEVENT
END:VCALENDAR
